BEGIN:VCALENDAR
VERSION:2.0
BEGIN:VEVENT
URL:https://hoeymoey.oztix.com.au/outlet/event/37c54a57-bcff-45d3-87e8-8e640e343c54
DTSTART:20210409T080000Z
DTEND:20210409T080000Z
SUMMARY:The Chats – AC/DC CD Tour
DESCRIPTION:Event details: https://hoeymoey.oztix.com.au/outlet/event/37c54a57-bcff-45d3-87e8-8e640e343c54
LOCATION:Hoey Moey Hotel (Coffs Harbour, NSW)
END:VEVENT
END:VCALENDAR