BEGIN:VCALENDAR
VERSION:2.0
BEGIN:VEVENT
URL:https://hoeymoey.oztix.com.au/outlet/event/c29219fa-8058-447d-9751-f319e4352dad
DTSTART:20210912T050000Z
DTEND:20210912T050000Z
SUMMARY:DIESEL Sunset Suburbia Band Album Tour
DESCRIPTION:Event details: https://hoeymoey.oztix.com.au/outlet/event/c29219fa-8058-447d-9751-f319e4352dad
LOCATION:Hoey Moey Hotel (Coffs Harbour, NSW)
END:VEVENT
END:VCALENDAR