BEGIN:VCALENDAR
VERSION:2.0
BEGIN:VEVENT
URL:https://hoeymoey.oztix.com.au/outlet/event/e2df8483-998a-4f4b-affb-67e67e55f356
DTSTART:20210314T040000Z
DTEND:20210314T040000Z
SUMMARY:Ben Lee
DESCRIPTION:Event details: https://hoeymoey.oztix.com.au/outlet/event/e2df8483-998a-4f4b-affb-67e67e55f356
LOCATION:Hoey Moey Hotel (Coffs Harbour, NSW)
END:VEVENT
END:VCALENDAR